{"text_format":"3","workbook":"xlsx","n_sheets":1,"sheets":["公示名单"],"not_rendered":{"external_links":1,"defined_names":1},"read":"whole","date_system":"1900"}

{"sheet":"公示名单","index":0,"n_rows":582,"n_cols":7,"rows_kept":582,"merged":[[0,0,0,6]]}
["江苏省2021年艰苦行业和校企合作改革项目自主招生考试拟录取名单"]
["序号","姓名","性别","报考类型","报考专业","准考证号","录取结果"]
[1,"胡永晨","男","校企合作","电气自动化技术",{"$f":"[1]Sheet2!A1&[1]Sheet2!B1","v":"20211010001"},"拟录取"]
[2,"郁长柏","女","校企合作","电气自动化技术",{"$f":"[1]Sheet2!A2&[1]Sheet2!B2","v":"20211010002"},"拟录取"]
[3,"朱广印","男","校企合作","电气自动化技术",{"$f":"[1]Sheet2!A3&[1]Sheet2!B3","v":"20211010003"},"拟录取"]
[4,"吴想","男","校企合作","电气自动化技术",{"$f":"[1]Sheet2!A4&[1]Sheet2!B4","v":"20211010004"},"拟录取"]
[5,"韦尚江","男","校企合作","电气自动化技术",{"$f":"[1]Sheet2!A5&[1]Sheet2!B5","v":"20211010005"},"拟录取"]
[6,"张萌萌","男","校企合作","电气自动化技术",{"$f":"[1]Sheet2!A6&[1]Sheet2!B6","v":"20211010006"},"拟录取"]
[7,"崔会扬","男","校企合作","电气自动化技术",{"$f":"[1]Sheet2!A7&[1]Sheet2!B7","v":"20211010007"},"拟录取"]
[8,"韩华江","男","校企合作","电气自动化技术",{"$f":"[1]Sheet2!A8&[1]Sheet2!B8","v":"20211010008"},"拟录取"]
[9,"陈奔","男","校企合作","电气自动化技术",{"$f":"[1]Sheet2!A9&[1]Sheet2!B9","v":"20211010009"},"拟录取"]
[10,"田鑫悦","女","校企合作","电气自动化技术",{"$f":"[1]Sheet2!A10&[1]Sheet2!B10","v":"20211010010"},"拟录取"]
[11,"胡文强","男","校企合作","电气自动化技术",{"$f":"[1]Sheet2!A11&[1]Sheet2!B11","v":"20211010011"},"拟录取"]
[12,"薛文芳","女","校企合作","电气自动化技术",{"$f":"[1]Sheet2!A12&[1]Sheet2!B12","v":"20211010012"},"拟录取"]
[13,"仇梦丽","女","校企合作","电子商务",{"$f":"[1]Sheet2!A13&[1]Sheet2!B13","v":"20211010013"},"拟录取"]
[14,"周苏鄂","男","校企合作","电子商务",{"$f":"[1]Sheet2!A14&[1]Sheet2!B14","v":"20211010014"},"拟录取"]
[15,"李丹","女","校企合作","电子商务",{"$f":"[1]Sheet2!A15&[1]Sheet2!B15","v":"20211010015"},"拟录取"]
[16,"李光辉","男","校企合作","电子商务",{"$f":"[1]Sheet2!A16&[1]Sheet2!B16","v":"20211010016"},"拟录取"]
[17,"刘瑞","女","校企合作","电子商务",{"$f":"[1]Sheet2!A17&[1]Sheet2!B17","v":"20211010017"},"拟录取"]
[18,"孙灿灿","女","校企合作","电子商务",{"$f":"[1]Sheet2!A18&[1]Sheet2!B18","v":"20211010018"},"拟录取"]
[19,"鲁晶","男","校企合作","机电一体化技术",{"$f":"[1]Sheet2!A19&[1]Sheet2!B19","v":"20211010019"},"拟录取"]
[20,"孙惠","女","校企合作","机电一体化技术",{"$f":"[1]Sheet2!A20&[1]Sheet2!B20","v":"20211010020"},"拟录取"]
[21,"汪理想","男","校企合作","机电一体化技术",{"$f":"[1]Sheet2!A21&[1]Sheet2!B21","v":"20211010021"},"拟录取"]
[22,"肖成明","男","校企合作","机电一体化技术",{"$f":"[1]Sheet2!A22&[1]Sheet2!B22","v":"20211010022"},"拟录取"]
[23,"王长江","男","校企合作","机电一体化技术",{"$f":"[1]Sheet2!A23&[1]Sheet2!B23","v":"20211010023"},"拟录取"]
[24,"王可可","男","校企合作","机电一体化技术",{"$f":"[1]Sheet2!A24&[1]Sheet2!B24","v":"20211010024"},"拟录取"]
[25,"李敏","女","校企合作","计算机应用技术",{"$f":"[1]Sheet2!A25&[1]Sheet2!B25","v":"20211010025"},"拟录取"]
[26,"张珍珍","女","校企合作","计算机应用技术",{"$f":"[1]Sheet2!A26&[1]Sheet2!B26","v":"20211010026"},"拟录取"]
[27,"刘璐萍","女","校企合作","电子商务",{"$f":"[1]Sheet2!A27&[1]Sheet2!B27","v":"20211010027"},"拟录取"]
[28,"杜昕芸","女","校企合作","计算机应用技术",{"$f":"[1]Sheet2!A28&[1]Sheet2!B28","v":"20211010028"},"拟录取"]
[29,"孙满意","男","校企合作","计算机应用技术",{"$f":"[1]Sheet2!A29&[1]Sheet2!B29","v":"20211010029"},"拟录取"]
[30,"刘营","女","校企合作","计算机应用技术",{"$f":"[1]Sheet2!A30&[1]Sheet2!B30","v":"20211010030"},"拟录取"]
[31,"宋静怡","女","校企合作","计算机应用技术",{"$f":"[1]Sheet2!A31&[1]Sheet2!B31","v":"20211010031"},"拟录取"]
[32,"马染","女","校企合作","计算机应用技术",{"$f":"[1]Sheet2!A32&[1]Sheet2!B32","v":"20211010032"},"拟录取"]
[33,"邱垒","男","校企合作","计算机应用技术",{"$f":"[1]Sheet2!A33&[1]Sheet2!B33","v":"20211010033"},"拟录取"]
[34,"冯夺冠","男","校企合作","计算机应用技术",{"$f":"[1]Sheet2!A34&[1]Sheet2!B34","v":"20211010034"},"拟录取"]
[35,"张路","女","校企合作","计算机应用技术",{"$f":"[1]Sheet2!A35&[1]Sheet2!B35","v":"20211010035"},"拟录取"]
[36,"刘永","男","校企合作","计算机应用技术",{"$f":"[1]Sheet2!A36&[1]Sheet2!B36","v":"20211010036"},"拟录取"]
[37,"姜峰","男","校企合作","计算机应用技术",{"$f":"[1]Sheet2!A37&[1]Sheet2!B37","v":"20211010037"},"拟录取"]
[38,"董陶陶","女","校企合作","计算机应用技术",{"$f":"[1]Sheet2!A38&[1]Sheet2!B38","v":"20211010038"},"拟录取"]
[39,"孙婷","女","校企合作","计算机应用技术",{"$f":"[1]Sheet2!A39&[1]Sheet2!B39","v":"20211010039"},"拟录取"]
[40,"李志帅","男","校企合作","计算机应用技术",{"$f":"[1]Sheet2!A40&[1]Sheet2!B40","v":"20211010040"},"拟录取"]
[41,"王洋","男","校企合作","计算机应用技术",{"$f":"[1]Sheet2!A41&[1]Sheet2!B41","v":"20211010041"},"拟录取"]
[42,"王海","男","校企合作","计算机应用技术",{"$f":"[1]Sheet2!A42&[1]Sheet2!B42","v":"20211010042"},"拟录取"]
[43,"郑念念","男","校企合作","计算机应用技术",{"$f":"[1]Sheet2!A43&[1]Sheet2!B43","v":"20211010043"},"拟录取"]
[44,"刘春柳","女","校企合作","计算机应用技术",{"$f":"[1]Sheet2!A44&[1]Sheet2!B44","v":"20211010044"},"拟录取"]
[45,"苗伟","男","校企合作","计算机应用技术",{"$f":"[1]Sheet2!A45&[1]Sheet2!B45","v":"20211010045"},"拟录取"]
[46,"王亮","男","校企合作","计算机应用技术",{"$f":"[1]Sheet2!A46&[1]Sheet2!B46","v":"20211010046"},"拟录取"]
[47,"王伟","男","校企合作","计算机应用技术",{"$f":"[1]Sheet2!A47&[1]Sheet2!B47","v":"20211010047"},"拟录取"]
[48,"黄志卫","男","校企合作","计算机应用技术",{"$f":"[1]Sheet2!A48&[1]Sheet2!B48","v":"20211010048"},"拟录取"]
[49,"孙法栋","男","校企合作","计算机应用技术",{"$f":"[1]Sheet2!A49&[1]Sheet2!B49","v":"20211010049"},"拟录取"]
[50,"刘潇","女","校企合作","计算机应用技术",{"$f":"[1]Sheet2!A50&[1]Sheet2!B50","v":"20211010050"},"拟录取"]
[51,"谭雪","女","校企合作","计算机应用技术",{"$f":"[1]Sheet2!A51&[1]Sheet2!B51","v":"20211010051"},"拟录取"]
[52,"王倩倩","女","校企合作","计算机应用技术",{"$f":"[1]Sheet2!A52&[1]Sheet2!B52","v":"20211010052"},"拟录取"]
[53,"胡秀秀","女","校企合作","计算机应用技术",{"$f":"[1]Sheet2!A53&[1]Sheet2!B53","v":"20211010053"},"拟录取"]
[54,"王玉会","女","校企合作","计算机应用技术",{"$f":"[1]Sheet2!A54&[1]Sheet2!B54","v":"20211010054"},"拟录取"]
[55,"华盟盟","男","校企合作","计算机应用技术",{"$f":"[1]Sheet2!A55&[1]Sheet2!B55","v":"20211010055"},"拟录取"]
[56,"王路","男","校企合作","计算机应用技术",{"$f":"[1]Sheet2!A56&[1]Sheet2!B56","v":"20211010056"},"拟录取"]
[57,"辛亚迪","女","校企合作","计算机应用技术",{"$f":"[1]Sheet2!A57&[1]Sheet2!B57","v":"20211010057"},"拟录取"]
[58,"司海丽","女","校企合作","计算机应用技术",{"$f":"[1]Sheet2!A58&[1]Sheet2!B58","v":"20211010058"},"拟录取"]
[59,"张瑜","女","校企合作","计算机应用技术",{"$f":"[1]Sheet2!A59&[1]Sheet2!B59","v":"20211010059"},"拟录取"]
[60,"张志豪","男","推荐考核","建筑工程技术",{"$f":"[1]Sheet2!A60&[1]Sheet2!B60","v":"20211010060"},"拟录取"]
[61,"李旭旭","男","推荐考核","建筑工程技术",{"$f":"[1]Sheet2!A61&[1]Sheet2!B61","v":"20211010061"},"拟录取"]
[62,"尉高阳","男","推荐考核","建筑工程技术",{"$f":"[1]Sheet2!A62&[1]Sheet2!B62","v":"20211010062"},"拟录取"]
[63,"史成龙","男","推荐考核","建筑工程技术",{"$f":"[1]Sheet2!A63&[1]Sheet2!B63","v":"20211010063"},"拟录取"]
[64,"朱政波","男","推荐考核","建筑工程技术",{"$f":"[1]Sheet2!A64&[1]Sheet2!B64","v":"20211010064"},"拟录取"]
[65,"王思虎","男","推荐考核","建筑工程技术",{"$f":"[1]Sheet2!A65&[1]Sheet2!B65","v":"20211010065"},"拟录取"]
[66,"梁文波","男","推荐考核","建筑工程技术",{"$f":"[1]Sheet2!A66&[1]Sheet2!B66","v":"20211010066"},"拟录取"]
[67,"张先敏","男","推荐考核","建筑工程技术",{"$f":"[1]Sheet2!A67&[1]Sheet2!B67","v":"20211010067"},"拟录取"]
[68,"王傲申","男","推荐考核","建筑工程技术",{"$f":"[1]Sheet2!A68&[1]Sheet2!B68","v":"20211010068"},"拟录取"]
[69,"吴凯歌","男","推荐考核","建筑工程技术",{"$f":"[1]Sheet2!A69&[1]Sheet2!B69","v":"20211010069"},"拟录取"]
[70,"吴蒙","男","推荐考核","建筑工程技术",{"$f":"[1]Sheet2!A70&[1]Sheet2!B70","v":"20211010070"},"拟录取"]
[71,"刘顺","男","推荐考核","建筑工程技术",{"$f":"[1]Sheet2!A71&[1]Sheet2!B71","v":"20211010071"},"拟录取"]
[72,"王兵","女","推荐考核","建筑工程技术",{"$f":"[1]Sheet2!A72&[1]Sheet2!B72","v":"20211010072"},"拟录取"]
[73,"韩洋","男","推荐考核","建筑工程技术",{"$f":"[1]Sheet2!A73&[1]Sheet2!B73","v":"20211010073"},"拟录取"]
[74,"曹晓","女","推荐考核","建筑工程技术",{"$f":"[1]Sheet2!A74&[1]Sheet2!B74","v":"20211010074"},"拟录取"]
[75,"冯超","男","推荐考核","建筑工程技术",{"$f":"[1]Sheet2!A75&[1]Sheet2!B75","v":"20211010075"},"拟录取"]
[76,"金中海","男","推荐考核","建筑工程技术",{"$f":"[1]Sheet2!A76&[1]Sheet2!B76","v":"20211010076"},"拟录取"]
[77,"林官印","男","推荐考核","建筑工程技术",{"$f":"[1]Sheet2!A77&[1]Sheet2!B77","v":"20211010077"},"拟录取"]
[78,"戴昊","男","推荐考核","建筑工程技术",{"$f":"[1]Sheet2!A78&[1]Sheet2!B78","v":"20211010078"},"拟录取"]
[79,"李光跃","男","推荐考核","建筑工程技术",{"$f":"[1]Sheet2!A79&[1]Sheet2!B79","v":"20211010079"},"拟录取"]
[80,"陈新苗","女","推荐考核","建筑工程技术",{"$f":"[1]Sheet2!A80&[1]Sheet2!B80","v":"20211010080"},"拟录取"]
[81,"李鹏","男","推荐考核","建筑工程技术",{"$f":"[1]Sheet2!A81&[1]Sheet2!B81","v":"20211010081"},"拟录取"]
[82,"李娟","女","推荐考核","建筑工程技术",{"$f":"[1]Sheet2!A82&[1]Sheet2!B82","v":"20211010082"},"拟录取"]
[83,"张明明","女","推荐考核","建筑工程技术",{"$f":"[1]Sheet2!A83&[1]Sheet2!B83","v":"20211010083"},"拟录取"]
[84,"胡乔淞","男","校企合作","市场营销",{"$f":"[1]Sheet2!A84&[1]Sheet2!B84","v":"20211010084"},"拟录取"]
[85,"张洪志","男","校企合作","市场营销",{"$f":"[1]Sheet2!A85&[1]Sheet2!B85","v":"20211010085"},"拟录取"]
[86,"丁悬悬","女","校企合作","市场营销",{"$f":"[1]Sheet2!A86&[1]Sheet2!B86","v":"20211010086"},"拟录取"]
[87,"李亚东","男","校企合作","市场营销",{"$f":"[1]Sheet2!A87&[1]Sheet2!B87","v":"20211010087"},"拟录取"]
[88,"张莉莉","女","校企合作","市场营销",{"$f":"[1]Sheet2!A88&[1]Sheet2!B88","v":"20211010088"},"拟录取"]
[89,"赵亚玲","女","校企合作","市场营销",{"$f":"[1]Sheet2!A89&[1]Sheet2!B89","v":"20211010089"},"拟录取"]
[90,"李喃喃","女","校企合作","市场营销",{"$f":"[1]Sheet2!A90&[1]Sheet2!B90","v":"20211010090"},"拟录取"]
[91,"杜甜甜","女","校企合作","市场营销",{"$f":"[1]Sheet2!A91&[1]Sheet2!B91","v":"20211010091"},"拟录取"]
[92,"高金燕","女","校企合作","市场营销",{"$f":"[1]Sheet2!A92&[1]Sheet2!B92","v":"20211010092"},"拟录取"]
[93,"张壹童","男","校企合作","市场营销",{"$f":"[1]Sheet2!A93&[1]Sheet2!B93","v":"20211010093"},"拟录取"]
[94,"徐亚男","女","推荐考核","现代物流管理",{"$f":"[1]Sheet2!A94&[1]Sheet2!B94","v":"20211010094"},"拟录取"]
[95,"程正彬","男","推荐考核","现代物流管理",{"$f":"[1]Sheet2!A95&[1]Sheet2!B95","v":"20211010095"},"拟录取"]
[96,"王磊","男","推荐考核","现代物流管理",{"$f":"[1]Sheet2!A96&[1]Sheet2!B96","v":"20211010096"},"拟录取"]
[97,"杨远航","男","推荐考核","现代物流管理",{"$f":"[1]Sheet2!A97&[1]Sheet2!B97","v":"20211010097"},"拟录取"]
[98,"邱艳","女","推荐考核","现代物流管理",{"$f":"[1]Sheet2!A98&[1]Sheet2!B98","v":"20211010098"},"拟录取"]
[99,"孟兰","女","推荐考核","现代物流管理",{"$f":"[1]Sheet2!A99&[1]Sheet2!B99","v":"20211010099"},"拟录取"]
[100,"司元佳","男","推荐考核","现代物流管理",{"$f":"[1]Sheet2!A100&[1]Sheet2!B100","v":"20211010100"},"拟录取"]
[101,"杨想想","男","推荐考核","建筑工程技术",{"$f":"[1]Sheet2!A101&[1]Sheet2!B101","v":"20211010101"},"拟录取"]
[102,"王一涵","女","校企合作","计算机应用技术",{"$f":"[1]Sheet2!A102&[1]Sheet2!B102","v":"20211010102"},"拟录取"]
[103,"朱理想","男","推荐考核","建筑工程技术",{"$f":"[1]Sheet2!A103&[1]Sheet2!B103","v":"20211010103"},"拟录取"]
[104,"胡俊杰","男","校企合作","市场营销",{"$f":"[1]Sheet2!A104&[1]Sheet2!B104","v":"20211010104"},"拟录取"]
[105,"徐青土","男","推荐考核","建筑工程技术",{"$f":"[1]Sheet2!A105&[1]Sheet2!B105","v":"20211010105"},"拟录取"]
[106,"袁茂君","女","推荐考核","建筑工程技术",{"$f":"[1]Sheet2!A106&[1]Sheet2!B106","v":"20211010106"},"拟录取"]
[107,"甄在臣","男","推荐考核","建筑工程技术",{"$f":"[1]Sheet2!A107&[1]Sheet2!B107","v":"20211010107"},"拟录取"]
[108,"陈晨","女","校企合作","电子商务",{"$f":"[1]Sheet2!A108&[1]Sheet2!B108","v":"20211010108"},"拟录取"]
[109,"蒋坤","女","推荐考核","建筑工程技术",{"$f":"[1]Sheet2!A109&[1]Sheet2!B109","v":"20211010109"},"拟录取"]
[110,"胡贺","男","推荐考核","建筑工程技术",{"$f":"[1]Sheet2!A110&[1]Sheet2!B110","v":"20211010110"},"拟录取"]
[111,"钟沁伶","男","校企合作","计算机应用技术",{"$f":"[1]Sheet2!A111&[1]Sheet2!B111","v":"20211010111"},"拟录取"]
[112,"李超宇","男","推荐考核","建筑工程技术",{"$f":"[1]Sheet2!A112&[1]Sheet2!B112","v":"20211010112"},"拟录取"]
[113,"张蕊","女","推荐考核","建筑工程技术",{"$f":"[1]Sheet2!A113&[1]Sheet2!B113","v":"20211010113"},"拟录取"]
[114,"殷欣耀","男","校企合作","机电一体化技术",{"$f":"[1]Sheet2!A114&[1]Sheet2!B114","v":"20211010114"},"拟录取"]
[115,"张生林","男","校企合作","计算机应用技术",{"$f":"[1]Sheet2!A115&[1]Sheet2!B115","v":"20211010115"},"拟录取"]
[116,"陈树祥","男","校企合作","机电一体化技术",{"$f":"[1]Sheet2!A116&[1]Sheet2!B116","v":"20211010116"},"拟录取"]
[117,"朱儒铭","男","校企合作","机电一体化技术",{"$f":"[1]Sheet2!A117&[1]Sheet2!B117","v":"20211010117"},"未录取"]
[118,"陆如芳","男","推荐考核","建筑工程技术",{"$f":"[1]Sheet2!A118&[1]Sheet2!B118","v":"20211010118"},"拟录取"]
[119,"潘昊","男","推荐考核","建筑工程技术",{"$f":"[1]Sheet2!A119&[1]Sheet2!B119","v":"20211010119"},"拟录取"]
[120,"周桂兵","男","推荐考核","建筑工程技术",{"$f":"[1]Sheet2!A120&[1]Sheet2!B120","v":"20211010120"},"拟录取"]
[121,"赵新兵","男","校企合作","市场营销",{"$f":"[1]Sheet2!A121&[1]Sheet2!B121","v":"20211010121"},"拟录取"]
[122,"陈彬","男","校企合作","市场营销",{"$f":"[1]Sheet2!A122&[1]Sheet2!B122","v":"20211010122"},"拟录取"]
[123,"陈锦","男","校企合作","市场营销",{"$f":"[1]Sheet2!A123&[1]Sheet2!B123","v":"20211010123"},"拟录取"]
[124,"宋克服","男","校企合作","市场营销",{"$f":"[1]Sheet2!A124&[1]Sheet2!B124","v":"20211010124"},"拟录取"]
[125,"张文淋","男","校企合作","市场营销",{"$f":"[1]Sheet2!A125&[1]Sheet2!B125","v":"20211010125"},"拟录取"]
[126,"焦安强","男","校企合作","市场营销",{"$f":"[1]Sheet2!A126&[1]Sheet2!B126","v":"20211010126"},"拟录取"]
[127,"丁明伟","男","校企合作","市场营销",{"$f":"[1]Sheet2!A127&[1]Sheet2!B127","v":"20211010127"},"拟录取"]
[128,"范贤珍","女","校企合作","市场营销",{"$f":"[1]Sheet2!A128&[1]Sheet2!B128","v":"20211010128"},"拟录取"]
[129,"刘克玉","男","校企合作","市场营销",{"$f":"[1]Sheet2!A129&[1]Sheet2!B129","v":"20211010129"},"拟录取"]
[130,"宋珊珊","女","校企合作","市场营销",{"$f":"[1]Sheet2!A130&[1]Sheet2!B130","v":"20211010130"},"拟录取"]
[131,"田继彬","男","校企合作","市场营销",{"$f":"[1]Sheet2!A131&[1]Sheet2!B131","v":"20211010131"},"拟录取"]
[132,"王田芳","女","校企合作","市场营销",{"$f":"[1]Sheet2!A132&[1]Sheet2!B132","v":"20211010132"},"拟录取"]
[133,"张国庆","男","校企合作","市场营销",{"$f":"[1]Sheet2!A133&[1]Sheet2!B133","v":"20211010133"},"拟录取"]
[134,"张守保","男","校企合作","市场营销",{"$f":"[1]Sheet2!A134&[1]Sheet2!B134","v":"20211010134"},"拟录取"]
[135,"闫春子","女","校企合作","市场营销",{"$f":"[1]Sheet2!A135&[1]Sheet2!B135","v":"20211010135"},"拟录取"]
[136,"卢晓青","男","校企合作","计算机应用技术",{"$f":"[1]Sheet2!A136&[1]Sheet2!B136","v":"20211010136"},"拟录取"]
[137,"宋苏苇","女","校企合作","计算机应用技术",{"$f":"[1]Sheet2!A137&[1]Sheet2!B137","v":"20211010137"},"拟录取"]
[138,"滕艳华","女","校企合作","计算机应用技术",{"$f":"[1]Sheet2!A138&[1]Sheet2!B138","v":"20211010138"},"拟录取"]
[139,"吴龙强","男","校企合作","计算机应用技术",{"$f":"[1]Sheet2!A139&[1]Sheet2!B139","v":"20211010139"},"拟录取"]
[140,"张飞","男","校企合作","计算机应用技术",{"$f":"[1]Sheet2!A140&[1]Sheet2!B140","v":"20211010140"},"拟录取"]
[141,"苏小雨","女","校企合作","计算机应用技术",{"$f":"[1]Sheet2!A141&[1]Sheet2!B141","v":"20211010141"},"拟录取"]
[142,"谷元光","男","校企合作","计算机应用技术",{"$f":"[1]Sheet2!A142&[1]Sheet2!B142","v":"20211010142"},"拟录取"]
[143,"李刚","男","校企合作","计算机应用技术",{"$f":"[1]Sheet2!A143&[1]Sheet2!B143","v":"20211010143"},"拟录取"]
[144,"李明会","男","校企合作","计算机应用技术",{"$f":"[1]Sheet2!A144&[1]Sheet2!B144","v":"20211010144"},"拟录取"]
[145,"刘克军","男","校企合作","计算机应用技术",{"$f":"[1]Sheet2!A145&[1]Sheet2!B145","v":"20211010145"},"拟录取"]
[146,"仲强","男","校企合作","计算机应用技术",{"$f":"[1]Sheet2!A146&[1]Sheet2!B146","v":"20211010146"},"拟录取"]
[147,"陈恩波","男","校企合作","计算机应用技术",{"$f":"[1]Sheet2!A147&[1]Sheet2!B147","v":"20211010147"},"拟录取"]
[148,"陈建军","男","校企合作","计算机应用技术",{"$f":"[1]Sheet2!A148&[1]Sheet2!B148","v":"20211010148"},"拟录取"]
[149,"丁绿岩","女","校企合作","计算机应用技术",{"$f":"[1]Sheet2!A149&[1]Sheet2!B149","v":"20211010149"},"拟录取"]
[150,"马克杰","男","校企合作","计算机应用技术",{"$f":"[1]Sheet2!A150&[1]Sheet2!B150","v":"20211010150"},"拟录取"]
[151,"王飞飞","女","校企合作","计算机应用技术",{"$f":"[1]Sheet2!A151&[1]Sheet2!B151","v":"20211010151"},"拟录取"]
[152,"梁建","男","校企合作","计算机应用技术",{"$f":"[1]Sheet2!A152&[1]Sheet2!B152","v":"20211010152"},"拟录取"]
[153,"王凯","男","校企合作","计算机应用技术",{"$f":"[1]Sheet2!A153&[1]Sheet2!B153","v":"20211010153"},"拟录取"]
[154,"张云鹏","男","校企合作","计算机应用技术",{"$f":"[1]Sheet2!A154&[1]Sheet2!B154","v":"20211010154"},"拟录取"]
[155,"董自明","男","校企合作","计算机应用技术",{"$f":"[1]Sheet2!A155&[1]Sheet2!B155","v":"20211010155"},"拟录取"]
[156,"周登普","男","校企合作","计算机应用技术",{"$f":"[1]Sheet2!A156&[1]Sheet2!B156","v":"20211010156"},"拟录取"]
[157,"王越","女","校企合作","计算机应用技术",{"$f":"[1]Sheet2!A157&[1]Sheet2!B157","v":"20211010157"},"拟录取"]
[158,"卢晓瑜","女","校企合作","计算机应用技术",{"$f":"[1]Sheet2!A158&[1]Sheet2!B158","v":"20211010158"},"拟录取"]
[159,"苏丽敏","女","校企合作","计算机应用技术",{"$f":"[1]Sheet2!A159&[1]Sheet2!B159","v":"20211010159"},"拟录取"]
[160,"董召彬","男","校企合作","计算机应用技术",{"$f":"[1]Sheet2!A160&[1]Sheet2!B160","v":"20211010160"},"拟录取"]
[161,"亓龙庆","男","推荐考核","建筑工程技术",{"$f":"[1]Sheet2!A161&[1]Sheet2!B161","v":"20211010161"},"拟录取"]
[162,"徐江","男","推荐考核","建筑工程技术",{"$f":"[1]Sheet2!A162&[1]Sheet2!B162","v":"20211010162"},"拟录取"]
[163,"陈旭东","男","推荐考核","建筑工程技术",{"$f":"[1]Sheet2!A163&[1]Sheet2!B163","v":"20211010163"},"拟录取"]
[164,"杜蕾蕾","女","推荐考核","建筑工程技术",{"$f":"[1]Sheet2!A164&[1]Sheet2!B164","v":"20211010164"},"拟录取"]
[165,"刘洋","男","推荐考核","建筑工程技术",{"$f":"[1]Sheet2!A165&[1]Sheet2!B165","v":"20211010165"},"拟录取"]
[166,"李浩","男","推荐考核","建筑工程技术",{"$f":"[1]Sheet2!A166&[1]Sheet2!B166","v":"20211010166"},"拟录取"]
[167,"李启凡","男","推荐考核","建筑工程技术",{"$f":"[1]Sheet2!A167&[1]Sheet2!B167","v":"20211010167"},"拟录取"]
[168,"相福帅","男","推荐考核","建筑工程技术",{"$f":"[1]Sheet2!A168&[1]Sheet2!B168","v":"20211010168"},"拟录取"]
[169,"陈雪","女","推荐考核","建筑工程技术",{"$f":"[1]Sheet2!A169&[1]Sheet2!B169","v":"20211010169"},"拟录取"]
[170,"霍博文","男","推荐考核","建筑工程技术",{"$f":"[1]Sheet2!A170&[1]Sheet2!B170","v":"20211010170"},"拟录取"]
[171,"秦晨祥","男","推荐考核","建筑工程技术",{"$f":"[1]Sheet2!A171&[1]Sheet2!B171","v":"20211010171"},"拟录取"]
[172,"秦莹","女","推荐考核","建筑工程技术",{"$f":"[1]Sheet2!A172&[1]Sheet2!B172","v":"20211010172"},"拟录取"]
[173,"苏杨","男","推荐考核","建筑工程技术",{"$f":"[1]Sheet2!A173&[1]Sheet2!B173","v":"20211010173"},"拟录取"]
[174,"张迈","男","推荐考核","建筑工程技术",{"$f":"[1]Sheet2!A174&[1]Sheet2!B174","v":"20211010174"},"拟录取"]
[175,"张涛","男","推荐考核","建筑工程技术",{"$f":"[1]Sheet2!A175&[1]Sheet2!B175","v":"20211010175"},"拟录取"]
[176,"曹岗","男","推荐考核","建筑工程技术",{"$f":"[1]Sheet2!A176&[1]Sheet2!B176","v":"20211010176"},"拟录取"]
[177,"王从超","男","推荐考核","建筑工程技术",{"$f":"[1]Sheet2!A177&[1]Sheet2!B177","v":"20211010177"},"拟录取"]
[178,"王从杰","男","推荐考核","建筑工程技术",{"$f":"[1]Sheet2!A178&[1]Sheet2!B178","v":"20211010178"},"拟录取"]
[179,"高山东","男","推荐考核","建筑工程技术",{"$f":"[1]Sheet2!A179&[1]Sheet2!B179","v":"20211010179"},"拟录取"]
[180,"王俊","男","推荐考核","建筑工程技术",{"$f":"[1]Sheet2!A180&[1]Sheet2!B180","v":"20211010180"},"拟录取"]
[181,"林永瑞","男","推荐考核","建筑工程技术",{"$f":"[1]Sheet2!A181&[1]Sheet2!B181","v":"20211010181"},"拟录取"]
[182,"任福媛","女","推荐考核","建筑工程技术",{"$f":"[1]Sheet2!A182&[1]Sheet2!B182","v":"20211010182"},"拟录取"]
[183,"李宝川","男","推荐考核","建筑工程技术",{"$f":"[1]Sheet2!A183&[1]Sheet2!B183","v":"20211010183"},"拟录取"]
[184,"李亚洲","男","推荐考核","建筑工程技术",{"$f":"[1]Sheet2!A184&[1]Sheet2!B184","v":"20211010184"},"拟录取"]
[185,"李乃昊","男","推荐考核","建筑工程技术",{"$f":"[1]Sheet2!A185&[1]Sheet2!B185","v":"20211010185"},"拟录取"]
[186,"赵东各","男","推荐考核","建筑工程技术",{"$f":"[1]Sheet2!A186&[1]Sheet2!B186","v":"20211010186"},"拟录取"]
[187,"陈祥龙","男","推荐考核","建筑工程技术",{"$f":"[1]Sheet2!A187&[1]Sheet2!B187","v":"20211010187"},"拟录取"]
[188,"敖勇","男","推荐考核","建筑工程技术",{"$f":"[1]Sheet2!A188&[1]Sheet2!B188","v":"20211010188"},"拟录取"]
[189,"赵凯凯","男","推荐考核","建筑工程技术",{"$f":"[1]Sheet2!A189&[1]Sheet2!B189","v":"20211010189"},"拟录取"]
[190,"赵伟康","男","推荐考核","建筑工程技术",{"$f":"[1]Sheet2!A190&[1]Sheet2!B190","v":"20211010190"},"拟录取"]
[191,"赵加鑫","男","校企合作","市场营销",{"$f":"[1]Sheet2!A191&[1]Sheet2!B191","v":"20211010191"},"拟录取"]
[192,"罗广波","男","校企合作","市场营销",{"$f":"[1]Sheet2!A192&[1]Sheet2!B192","v":"20211010192"},"拟录取"]
[193,"姜纪平","女","校企合作","市场营销",{"$f":"[1]Sheet2!A193&[1]Sheet2!B193","v":"20211010193"},"拟录取"]
[194,"林艳","女","校企合作","市场营销",{"$f":"[1]Sheet2!A194&[1]Sheet2!B194","v":"20211010194"},"拟录取"]
[195,"林永勇","男","校企合作","市场营销",{"$f":"[1]Sheet2!A195&[1]Sheet2!B195","v":"20211010195"},"拟录取"]
[196,"王仕送","男","校企合作","市场营销",{"$f":"[1]Sheet2!A196&[1]Sheet2!B196","v":"20211010196"},"拟录取"]
[197,"韩后运","男","校企合作","市场营销",{"$f":"[1]Sheet2!A197&[1]Sheet2!B197","v":"20211010197"},"拟录取"]
[198,"赵日杰","男","校企合作","市场营销",{"$f":"[1]Sheet2!A198&[1]Sheet2!B198","v":"20211010198"},"拟录取"]
[199,"陈兴亮","男","校企合作","市场营销",{"$f":"[1]Sheet2!A199&[1]Sheet2!B199","v":"20211010199"},"拟录取"]
[200,"林雷雷","女","校企合作","市场营销",{"$f":"[1]Sheet2!A200&[1]Sheet2!B200","v":"20211010200"},"拟录取"]
[201,"马建勇","男","校企合作","市场营销",{"$f":"[1]Sheet2!A201&[1]Sheet2!B201","v":"20211010201"},"拟录取"]
[202,"仲伟","男","校企合作","市场营销",{"$f":"[1]Sheet2!A202&[1]Sheet2!B202","v":"20211010202"},"拟录取"]
[203,"秦梦雨","女","校企合作","市场营销",{"$f":"[1]Sheet2!A203&[1]Sheet2!B203","v":"20211010203"},"拟录取"]
[204,"林煊","男","校企合作","市场营销",{"$f":"[1]Sheet2!A204&[1]Sheet2!B204","v":"20211010204"},"拟录取"]
[205,"秦林生","男","校企合作","市场营销",{"$f":"[1]Sheet2!A205&[1]Sheet2!B205","v":"20211010205"},"拟录取"]
[206,"周忠金","男","校企合作","市场营销",{"$f":"[1]Sheet2!A206&[1]Sheet2!B206","v":"20211010206"},"拟录取"]
[207,"马相峰","男","校企合作","市场营销",{"$f":"[1]Sheet2!A207&[1]Sheet2!B207","v":"20211010207"},"拟录取"]
[208,"李忠业","男","校企合作","市场营销",{"$f":"[1]Sheet2!A208&[1]Sheet2!B208","v":"20211010208"},"拟录取"]
[209,"胡修训","男","校企合作","市场营销",{"$f":"[1]Sheet2!A209&[1]Sheet2!B209","v":"20211010209"},"拟录取"]
[210,"刘凯文","男","校企合作","计算机应用技术",{"$f":"[1]Sheet2!A210&[1]Sheet2!B210","v":"20211010210"},"拟录取"]
[211,"林凡宁","男","校企合作","计算机应用技术",{"$f":"[1]Sheet2!A211&[1]Sheet2!B211","v":"20211010211"},"拟录取"]
[212,"王均庆","男","校企合作","计算机应用技术",{"$f":"[1]Sheet2!A212&[1]Sheet2!B212","v":"20211010212"},"拟录取"]
[213,"左栋瑞","男","校企合作","计算机应用技术",{"$f":"[1]Sheet2!A213&[1]Sheet2!B213","v":"20211010213"},"拟录取"]
[214,"郑加发","男","校企合作","计算机应用技术",{"$f":"[1]Sheet2!A214&[1]Sheet2!B214","v":"20211010214"},"拟录取"]
[215,"秦春明","男","校企合作","计算机应用技术",{"$f":"[1]Sheet2!A215&[1]Sheet2!B215","v":"20211010215"},"拟录取"]
[216,"周际妮","女","校企合作","计算机应用技术",{"$f":"[1]Sheet2!A216&[1]Sheet2!B216","v":"20211010216"},"拟录取"]
[217,"孙旻","男","校企合作","计算机应用技术",{"$f":"[1]Sheet2!A217&[1]Sheet2!B217","v":"20211010217"},"拟录取"]
[218,"李贺","男","校企合作","计算机应用技术",{"$f":"[1]Sheet2!A218&[1]Sheet2!B218","v":"20211010218"},"拟录取"]
[219,"郑永登","男","校企合作","计算机应用技术",{"$f":"[1]Sheet2!A219&[1]Sheet2!B219","v":"20211010219"},"拟录取"]
[220,"王文文","女","校企合作","计算机应用技术",{"$f":"[1]Sheet2!A220&[1]Sheet2!B220","v":"20211010220"},"拟录取"]
[221,"陈祥青","男","校企合作","计算机应用技术",{"$f":"[1]Sheet2!A221&[1]Sheet2!B221","v":"20211010221"},"拟录取"]
[222,"何明艳","女","校企合作","计算机应用技术",{"$f":"[1]Sheet2!A222&[1]Sheet2!B222","v":"20211010222"},"拟录取"]
[223,"刘加海","男","校企合作","计算机应用技术",{"$f":"[1]Sheet2!A223&[1]Sheet2!B223","v":"20211010223"},"拟录取"]
[224,"林翠","女","校企合作","计算机应用技术",{"$f":"[1]Sheet2!A224&[1]Sheet2!B224","v":"20211010224"},"拟录取"]
[225,"韦有红","男","校企合作","计算机应用技术",{"$f":"[1]Sheet2!A225&[1]Sheet2!B225","v":"20211010225"},"拟录取"]
[226,"林小惠","女","校企合作","市场营销",{"$f":"[1]Sheet2!A226&[1]Sheet2!B226","v":"20211010226"},"拟录取"]
[227,"林晓洁","女","校企合作","市场营销",{"$f":"[1]Sheet2!A227&[1]Sheet2!B227","v":"20211010227"},"拟录取"]
[228,"林晓敏","女","校企合作","市场营销",{"$f":"[1]Sheet2!A228&[1]Sheet2!B228","v":"20211010228"},"拟录取"]
[229,"陈洋","女","校企合作","市场营销",{"$f":"[1]Sheet2!A229&[1]Sheet2!B229","v":"20211010229"},"拟录取"]
[230,"申鹏飞","男","校企合作","市场营销",{"$f":"[1]Sheet2!A230&[1]Sheet2!B230","v":"20211010230"},"拟录取"]
[231,"戴玉阳","男","校企合作","市场营销",{"$f":"[1]Sheet2!A231&[1]Sheet2!B231","v":"20211010231"},"拟录取"]
[232,"胡小华","男","校企合作","市场营销",{"$f":"[1]Sheet2!A232&[1]Sheet2!B232","v":"20211010232"},"拟录取"]
[233,"李群","男","校企合作","市场营销",{"$f":"[1]Sheet2!A233&[1]Sheet2!B233","v":"20211010233"},"拟录取"]
[234,"刘善春","男","校企合作","市场营销",{"$f":"[1]Sheet2!A234&[1]Sheet2!B234","v":"20211010234"},"拟录取"]
[235,"张俊密","男","校企合作","市场营销",{"$f":"[1]Sheet2!A235&[1]Sheet2!B235","v":"20211010235"},"拟录取"]
[236,"王刚","男","校企合作","市场营销",{"$f":"[1]Sheet2!A236&[1]Sheet2!B236","v":"20211010236"},"拟录取"]
[237,"王璐","男","校企合作","市场营销",{"$f":"[1]Sheet2!A237&[1]Sheet2!B237","v":"20211010237"},"拟录取"]
[238,"张春芳","女","校企合作","市场营销",{"$f":"[1]Sheet2!A238&[1]Sheet2!B238","v":"20211010238"},"拟录取"]
[239,"张涛","男","校企合作","市场营销",{"$f":"[1]Sheet2!A239&[1]Sheet2!B239","v":"20211010239"},"拟录取"]
[240,"姬晓庆","女","校企合作","市场营销",{"$f":"[1]Sheet2!A240&[1]Sheet2!B240","v":"20211010240"},"拟录取"]
[241,"苏云","女","校企合作","市场营销",{"$f":"[1]Sheet2!A241&[1]Sheet2!B241","v":"20211010241"},"拟录取"]
[242,"王铁成","男","校企合作","市场营销",{"$f":"[1]Sheet2!A242&[1]Sheet2!B242","v":"20211010242"},"拟录取"]
[243,"郝玉波","男","校企合作","市场营销",{"$f":"[1]Sheet2!A243&[1]Sheet2!B243","v":"20211010243"},"拟录取"]
[244,"李志国","男","校企合作","市场营销",{"$f":"[1]Sheet2!A244&[1]Sheet2!B244","v":"20211010244"},"拟录取"]
[245,"马德云","女","校企合作","市场营销",{"$f":"[1]Sheet2!A245&[1]Sheet2!B245","v":"20211010245"},"拟录取"]
[246,"陈静青","男","校企合作","市场营销",{"$f":"[1]Sheet2!A246&[1]Sheet2!B246","v":"20211010246"},"拟录取"]
[247,"崔增宇","男","校企合作","市场营销",{"$f":"[1]Sheet2!A247&[1]Sheet2!B247","v":"20211010247"},"拟录取"]
[248,"张明亮","男","校企合作","市场营销",{"$f":"[1]Sheet2!A248&[1]Sheet2!B248","v":"20211010248"},"拟录取"]
[249,"戴润潮","男","校企合作","市场营销",{"$f":"[1]Sheet2!A249&[1]Sheet2!B249","v":"20211010249"},"拟录取"]
[250,"许丽凤","女","校企合作","市场营销",{"$f":"[1]Sheet2!A250&[1]Sheet2!B250","v":"20211010250"},"拟录取"]
[251,"陈振勇","男","校企合作","市场营销",{"$f":"[1]Sheet2!A251&[1]Sheet2!B251","v":"20211010251"},"拟录取"]
[252,"杜姣姣","女","校企合作","市场营销",{"$f":"[1]Sheet2!A252&[1]Sheet2!B252","v":"20211010252"},"拟录取"]
[253,"林云航","男","校企合作","市场营销",{"$f":"[1]Sheet2!A253&[1]Sheet2!B253","v":"20211010253"},"拟录取"]
[254,"秦绪金","男","校企合作","市场营销",{"$f":"[1]Sheet2!A254&[1]Sheet2!B254","v":"20211010254"},"拟录取"]
[255,"邱星","男","校企合作","市场营销",{"$f":"[1]Sheet2!A255&[1]Sheet2!B255","v":"20211010255"},"拟录取"]
[256,"苏同锋","男","校企合作","市场营销",{"$f":"[1]Sheet2!A256&[1]Sheet2!B256","v":"20211010256"},"拟录取"]
[257,"张翔","男","校企合作","市场营销",{"$f":"[1]Sheet2!A257&[1]Sheet2!B257","v":"20211010257"},"拟录取"]
[258,"柴月超","女","校企合作","市场营销",{"$f":"[1]Sheet2!A258&[1]Sheet2!B258","v":"20211010258"},"拟录取"]
[259,"林斌","男","校企合作","市场营销",{"$f":"[1]Sheet2!A259&[1]Sheet2!B259","v":"20211010259"},"拟录取"]
[260,"卢山","男","校企合作","市场营销",{"$f":"[1]Sheet2!A260&[1]Sheet2!B260","v":"20211010260"},"拟录取"]
[261,"马先强","男","校企合作","市场营销",{"$f":"[1]Sheet2!A261&[1]Sheet2!B261","v":"20211010261"},"拟录取"]
[262,"秦尧尧","女","校企合作","市场营销",{"$f":"[1]Sheet2!A262&[1]Sheet2!B262","v":"20211010262"},"拟录取"]
[263,"曹桢","男","校企合作","市场营销",{"$f":"[1]Sheet2!A263&[1]Sheet2!B263","v":"20211010263"},"拟录取"]
[264,"秦立鹏","男","校企合作","市场营销",{"$f":"[1]Sheet2!A264&[1]Sheet2!B264","v":"20211010264"},"拟录取"]
[265,"王日峰","男","校企合作","市场营销",{"$f":"[1]Sheet2!A265&[1]Sheet2!B265","v":"20211010265"},"拟录取"]
[266,"姜维","男","校企合作","计算机应用技术",{"$f":"[1]Sheet2!A266&[1]Sheet2!B266","v":"20211010266"},"拟录取"]
[267,"牟金鹏","男","校企合作","计算机应用技术",{"$f":"[1]Sheet2!A267&[1]Sheet2!B267","v":"20211010267"},"拟录取"]
[268,"田涛","男","校企合作","计算机应用技术",{"$f":"[1]Sheet2!A268&[1]Sheet2!B268","v":"20211010268"},"拟录取"]
[269,"张健","男","校企合作","计算机应用技术",{"$f":"[1]Sheet2!A269&[1]Sheet2!B269","v":"20211010269"},"拟录取"]
[270,"崔健","男","校企合作","计算机应用技术",{"$f":"[1]Sheet2!A270&[1]Sheet2!B270","v":"20211010270"},"拟录取"]
[271,"丁明法","男","校企合作","计算机应用技术",{"$f":"[1]Sheet2!A271&[1]Sheet2!B271","v":"20211010271"},"拟录取"]
[272,"陈亮","男","校企合作","计算机应用技术",{"$f":"[1]Sheet2!A272&[1]Sheet2!B272","v":"20211010272"},"拟录取"]
[273,"董自洁","男","校企合作","计算机应用技术",{"$f":"[1]Sheet2!A273&[1]Sheet2!B273","v":"20211010273"},"拟录取"]
[274,"杜恩德","男","校企合作","计算机应用技术",{"$f":"[1]Sheet2!A274&[1]Sheet2!B274","v":"20211010274"},"拟录取"]
[275,"黄玮","女","校企合作","计算机应用技术",{"$f":"[1]Sheet2!A275&[1]Sheet2!B275","v":"20211010275"},"拟录取"]
[276,"董晓玲","女","校企合作","计算机应用技术",{"$f":"[1]Sheet2!A276&[1]Sheet2!B276","v":"20211010276"},"拟录取"]
[277,"林奥杰","男","校企合作","计算机应用技术",{"$f":"[1]Sheet2!A277&[1]Sheet2!B277","v":"20211010277"},"拟录取"]
[278,"林忠","男","校企合作","计算机应用技术",{"$f":"[1]Sheet2!A278&[1]Sheet2!B278","v":"20211010278"},"拟录取"]
[279,"卢艳红","女","校企合作","计算机应用技术",{"$f":"[1]Sheet2!A279&[1]Sheet2!B279","v":"20211010279"},"拟录取"]
[280,"田盼盼","女","校企合作","计算机应用技术",{"$f":"[1]Sheet2!A280&[1]Sheet2!B280","v":"20211010280"},"拟录取"]
[281,"张文龙","男","校企合作","计算机应用技术",{"$f":"[1]Sheet2!A281&[1]Sheet2!B281","v":"20211010281"},"拟录取"]
[282,"陈洪岗","男","校企合作","计算机应用技术",{"$f":"[1]Sheet2!A282&[1]Sheet2!B282","v":"20211010282"},"拟录取"]
[283,"管秀章","男","校企合作","计算机应用技术",{"$f":"[1]Sheet2!A283&[1]Sheet2!B283","v":"20211010283"},"拟录取"]
[284,"胡少敏","女","校企合作","计算机应用技术",{"$f":"[1]Sheet2!A284&[1]Sheet2!B284","v":"20211010284"},"拟录取"]
[285,"王明霞","女","校企合作","计算机应用技术",{"$f":"[1]Sheet2!A285&[1]Sheet2!B285","v":"20211010285"},"拟录取"]
[286,"杨淑城","男","校企合作","计算机应用技术",{"$f":"[1]Sheet2!A286&[1]Sheet2!B286","v":"20211010286"},"拟录取"]
[287,"张妮","女","校企合作","计算机应用技术",{"$f":"[1]Sheet2!A287&[1]Sheet2!B287","v":"20211010287"},"拟录取"]
[288,"朱会园","女","校企合作","计算机应用技术",{"$f":"[1]Sheet2!A288&[1]Sheet2!B288","v":"20211010288"},"拟录取"]
[289,"胡彦文","男","校企合作","计算机应用技术",{"$f":"[1]Sheet2!A289&[1]Sheet2!B289","v":"20211010289"},"拟录取"]
[290,"李臣伟","男","校企合作","计算机应用技术",{"$f":"[1]Sheet2!A290&[1]Sheet2!B290","v":"20211010290"},"拟录取"]
[291,"李佳圆","男","校企合作","计算机应用技术",{"$f":"[1]Sheet2!A291&[1]Sheet2!B291","v":"20211010291"},"拟录取"]
[292,"王锦坤","男","校企合作","计算机应用技术",{"$f":"[1]Sheet2!A292&[1]Sheet2!B292","v":"20211010292"},"拟录取"]
[293,"王亚杰","女","校企合作","计算机应用技术",{"$f":"[1]Sheet2!A293&[1]Sheet2!B293","v":"20211010293"},"拟录取"]
[294,"王一鸣","男","校企合作","计算机应用技术",{"$f":"[1]Sheet2!A294&[1]Sheet2!B294","v":"20211010294"},"拟录取"]
[295,"张永胜","男","校企合作","计算机应用技术",{"$f":"[1]Sheet2!A295&[1]Sheet2!B295","v":"20211010295"},"拟录取"]
[296,"侯世超","男","校企合作","机电一体化技术",{"$f":"[1]Sheet2!A296&[1]Sheet2!B296","v":"20211010296"},"拟录取"]
[297,"霍允龙","男","校企合作","机电一体化技术",{"$f":"[1]Sheet2!A297&[1]Sheet2!B297","v":"20211010297"},"拟录取"]
[298,"张中良","男","校企合作","机电一体化技术",{"$f":"[1]Sheet2!A298&[1]Sheet2!B298","v":"20211010298"},"拟录取"]
[299,"关凯宏","男","校企合作","机电一体化技术",{"$f":"[1]Sheet2!A299&[1]Sheet2!B299","v":"20211010299"},"拟录取"]
[300,"林军","男","校企合作","机电一体化技术",{"$f":"[1]Sheet2!A300&[1]Sheet2!B300","v":"20211010300"},"拟录取"]
[301,"刘维江","男","校企合作","机电一体化技术",{"$f":"[1]Sheet2!A301&[1]Sheet2!B301","v":"20211010301"},"拟录取"]
[302,"刘永昌","男","校企合作","机电一体化技术",{"$f":"[1]Sheet2!A302&[1]Sheet2!B302","v":"20211010302"},"拟录取"]
[303,"秦大健","男","校企合作","机电一体化技术",{"$f":"[1]Sheet2!A303&[1]Sheet2!B303","v":"20211010303"},"拟录取"]
[304,"徐学浩","男","校企合作","机电一体化技术",{"$f":"[1]Sheet2!A304&[1]Sheet2!B304","v":"20211010304"},"拟录取"]
[305,"张永超","男","校企合作","机电一体化技术",{"$f":"[1]Sheet2!A305&[1]Sheet2!B305","v":"20211010305"},"拟录取"]
[306,"赵杨","男","校企合作","机电一体化技术",{"$f":"[1]Sheet2!A306&[1]Sheet2!B306","v":"20211010306"},"拟录取"]
[307,"王蒙珍","女","校企合作","机电一体化技术",{"$f":"[1]Sheet2!A307&[1]Sheet2!B307","v":"20211010307"},"拟录取"]
[308,"王玮","男","校企合作","机电一体化技术",{"$f":"[1]Sheet2!A308&[1]Sheet2!B308","v":"20211010308"},"拟录取"]
[309,"张辉","男","校企合作","机电一体化技术",{"$f":"[1]Sheet2!A309&[1]Sheet2!B309","v":"20211010309"},"拟录取"]
[310,"陈竞","男","校企合作","机电一体化技术",{"$f":"[1]Sheet2!A310&[1]Sheet2!B310","v":"20211010310"},"拟录取"]
[311,"丁伟","男","校企合作","机电一体化技术",{"$f":"[1]Sheet2!A311&[1]Sheet2!B311","v":"20211010311"},"拟录取"]
[312,"李宝峰","男","校企合作","机电一体化技术",{"$f":"[1]Sheet2!A312&[1]Sheet2!B312","v":"20211010312"},"拟录取"]
[313,"李航","男","校企合作","机电一体化技术",{"$f":"[1]Sheet2!A313&[1]Sheet2!B313","v":"20211010313"},"拟录取"]
[314,"刘航运","男","校企合作","机电一体化技术",{"$f":"[1]Sheet2!A314&[1]Sheet2!B314","v":"20211010314"},"拟录取"]
[315,"乔君峰","男","校企合作","机电一体化技术",{"$f":"[1]Sheet2!A315&[1]Sheet2!B315","v":"20211010315"},"拟录取"]
[316,"孙前程","男","校企合作","机电一体化技术",{"$f":"[1]Sheet2!A316&[1]Sheet2!B316","v":"20211010316"},"拟录取"]
[317,"王健","男","校企合作","机电一体化技术",{"$f":"[1]Sheet2!A317&[1]Sheet2!B317","v":"20211010317"},"拟录取"]
[318,"庄建东","男","校企合作","机电一体化技术",{"$f":"[1]Sheet2!A318&[1]Sheet2!B318","v":"20211010318"},"拟录取"]
[319,"安彩玉","女","校企合作","机电一体化技术",{"$f":"[1]Sheet2!A319&[1]Sheet2!B319","v":"20211010319"},"拟录取"]
[320,"冯瑞霞","女","校企合作","机电一体化技术",{"$f":"[1]Sheet2!A320&[1]Sheet2!B320","v":"20211010320"},"拟录取"]
[321,"韩佳佳","男","校企合作","机电一体化技术",{"$f":"[1]Sheet2!A321&[1]Sheet2!B321","v":"20211010321"},"拟录取"]
[322,"贺小龙","男","校企合作","机电一体化技术",{"$f":"[1]Sheet2!A322&[1]Sheet2!B322","v":"20211010322"},"拟录取"]
[323,"李冬","男","校企合作","机电一体化技术",{"$f":"[1]Sheet2!A323&[1]Sheet2!B323","v":"20211010323"},"拟录取"]
[324,"李海","男","校企合作","机电一体化技术",{"$f":"[1]Sheet2!A324&[1]Sheet2!B324","v":"20211010324"},"拟录取"]
[325,"刘为孝","男","校企合作","机电一体化技术",{"$f":"[1]Sheet2!A325&[1]Sheet2!B325","v":"20211010325"},"拟录取"]
[326,"秦华","男","校企合作","机电一体化技术",{"$f":"[1]Sheet2!A326&[1]Sheet2!B326","v":"20211010326"},"拟录取"]
[327,"宋一合","男","校企合作","机电一体化技术",{"$f":"[1]Sheet2!A327&[1]Sheet2!B327","v":"20211010327"},"拟录取"]
[328,"王利军","男","校企合作","机电一体化技术",{"$f":"[1]Sheet2!A328&[1]Sheet2!B328","v":"20211010328"},"拟录取"]
[329,"王文旭","男","校企合作","机电一体化技术",{"$f":"[1]Sheet2!A329&[1]Sheet2!B329","v":"20211010329"},"拟录取"]
[330,"杨志鑫","男","校企合作","机电一体化技术",{"$f":"[1]Sheet2!A330&[1]Sheet2!B330","v":"20211010330"},"拟录取"]
[331,"张安明","男","校企合作","机电一体化技术",{"$f":"[1]Sheet2!A331&[1]Sheet2!B331","v":"20211010331"},"拟录取"]
[332,"张宗伟","男","校企合作","机电一体化技术",{"$f":"[1]Sheet2!A332&[1]Sheet2!B332","v":"20211010332"},"拟录取"]
[333,"周洪波","男","校企合作","机电一体化技术",{"$f":"[1]Sheet2!A333&[1]Sheet2!B333","v":"20211010333"},"拟录取"]
[334,"庄宪民","男","校企合作","机电一体化技术",{"$f":"[1]Sheet2!A334&[1]Sheet2!B334","v":"20211010334"},"拟录取"]
[335,"王涛","男","校企合作","机电一体化技术",{"$f":"[1]Sheet2!A335&[1]Sheet2!B335","v":"20211010335"},"拟录取"]
[336,"陈洪宇","男","校企合作","机电一体化技术",{"$f":"[1]Sheet2!A336&[1]Sheet2!B336","v":"20211010336"},"拟录取"]
[337,"邓建军","男","校企合作","机电一体化技术",{"$f":"[1]Sheet2!A337&[1]Sheet2!B337","v":"20211010337"},"拟录取"]
[338,"张玉成","男","校企合作","机电一体化技术",{"$f":"[1]Sheet2!A338&[1]Sheet2!B338","v":"20211010338"},"拟录取"]
[339,"李为善","男","校企合作","机电一体化技术",{"$f":"[1]Sheet2!A339&[1]Sheet2!B339","v":"20211010339"},"拟录取"]
[340,"林令豪","男","校企合作","机电一体化技术",{"$f":"[1]Sheet2!A340&[1]Sheet2!B340","v":"20211010340"},"拟录取"]
[341,"苏超","男","校企合作","机电一体化技术",{"$f":"[1]Sheet2!A341&[1]Sheet2!B341","v":"20211010341"},"拟录取"]
[342,"王家峰","男","校企合作","机电一体化技术",{"$f":"[1]Sheet2!A342&[1]Sheet2!B342","v":"20211010342"},"拟录取"]
[343,"张功志","男","校企合作","机电一体化技术",{"$f":"[1]Sheet2!A343&[1]Sheet2!B343","v":"20211010343"},"拟录取"]
[344,"林莹","女","校企合作","机电一体化技术",{"$f":"[1]Sheet2!A344&[1]Sheet2!B344","v":"20211010344"},"拟录取"]
[345,"李乃军","男","校企合作","机电一体化技术",{"$f":"[1]Sheet2!A345&[1]Sheet2!B345","v":"20211010345"},"拟录取"]
[346,"林泉鑫","男","校企合作","计算机应用技术",{"$f":"[1]Sheet2!A346&[1]Sheet2!B346","v":"20211010346"},"拟录取"]
[347,"林依和","男","校企合作","计算机应用技术",{"$f":"[1]Sheet2!A347&[1]Sheet2!B347","v":"20211010347"},"拟录取"]
[348,"马超","女","校企合作","计算机应用技术",{"$f":"[1]Sheet2!A348&[1]Sheet2!B348","v":"20211010348"},"拟录取"]
[349,"马峰","男","校企合作","计算机应用技术",{"$f":"[1]Sheet2!A349&[1]Sheet2!B349","v":"20211010349"},"拟录取"]
[350,"虢晓明","男","校企合作","计算机应用技术",{"$f":"[1]Sheet2!A350&[1]Sheet2!B350","v":"20211010350"},"拟录取"]
[351,"胡顺涛","男","校企合作","计算机应用技术",{"$f":"[1]Sheet2!A351&[1]Sheet2!B351","v":"20211010351"},"拟录取"]
[352,"秦鹏鹏","男","校企合作","计算机应用技术",{"$f":"[1]Sheet2!A352&[1]Sheet2!B352","v":"20211010352"},"拟录取"]
[353,"秦绪斌","男","校企合作","计算机应用技术",{"$f":"[1]Sheet2!A353&[1]Sheet2!B353","v":"20211010353"},"拟录取"]
[354,"邵成成","男","校企合作","计算机应用技术",{"$f":"[1]Sheet2!A354&[1]Sheet2!B354","v":"20211010354"},"拟录取"]
[355,"宋小龙","男","校企合作","计算机应用技术",{"$f":"[1]Sheet2!A355&[1]Sheet2!B355","v":"20211010355"},"拟录取"]
[356,"朱文海","男","校企合作","计算机应用技术",{"$f":"[1]Sheet2!A356&[1]Sheet2!B356","v":"20211010356"},"拟录取"]
[357,"张伟","男","校企合作","计算机应用技术",{"$f":"[1]Sheet2!A357&[1]Sheet2!B357","v":"20211010357"},"拟录取"]
[358,"李欣阳","男","校企合作","计算机应用技术",{"$f":"[1]Sheet2!A358&[1]Sheet2!B358","v":"20211010358"},"拟录取"]
[359,"刘芹芹","女","校企合作","计算机应用技术",{"$f":"[1]Sheet2!A359&[1]Sheet2!B359","v":"20211010359"},"拟录取"]
[360,"段斌","男","校企合作","计算机应用技术",{"$f":"[1]Sheet2!A360&[1]Sheet2!B360","v":"20211010360"},"拟录取"]
[361,"王树明","男","校企合作","市场营销",{"$f":"[1]Sheet2!A361&[1]Sheet2!B361","v":"20211010361"},"拟录取"]
[362,"袁红霞","女","校企合作","市场营销",{"$f":"[1]Sheet2!A362&[1]Sheet2!B362","v":"20211010362"},"拟录取"]
[363,"郑书文","女","校企合作","市场营销",{"$f":"[1]Sheet2!A363&[1]Sheet2!B363","v":"20211010363"},"拟录取"]
[364,"王斌","男","校企合作","市场营销",{"$f":"[1]Sheet2!A364&[1]Sheet2!B364","v":"20211010364"},"拟录取"]
[365,"陈常久","男","校企合作","市场营销",{"$f":"[1]Sheet2!A365&[1]Sheet2!B365","v":"20211010365"},"拟录取"]
[366,"苗亚君","男","校企合作","市场营销",{"$f":"[1]Sheet2!A366&[1]Sheet2!B366","v":"20211010366"},"拟录取"]
[367,"侯其明","男","校企合作","市场营销",{"$f":"[1]Sheet2!A367&[1]Sheet2!B367","v":"20211010367"},"拟录取"]
[368,"王安刚","男","校企合作","市场营销",{"$f":"[1]Sheet2!A368&[1]Sheet2!B368","v":"20211010368"},"拟录取"]
[369,"王亮","男","校企合作","市场营销",{"$f":"[1]Sheet2!A369&[1]Sheet2!B369","v":"20211010369"},"拟录取"]
[370,"张磊","男","校企合作","市场营销",{"$f":"[1]Sheet2!A370&[1]Sheet2!B370","v":"20211010370"},"拟录取"]
[371,"王杰","男","校企合作","市场营销",{"$f":"[1]Sheet2!A371&[1]Sheet2!B371","v":"20211010371"},"拟录取"]
[372,"崔文久","男","校企合作","市场营销",{"$f":"[1]Sheet2!A372&[1]Sheet2!B372","v":"20211010372"},"拟录取"]
[373,"范盼盼","女","校企合作","市场营销",{"$f":"[1]Sheet2!A373&[1]Sheet2!B373","v":"20211010373"},"拟录取"]
[374,"刘本明","男","校企合作","市场营销",{"$f":"[1]Sheet2!A374&[1]Sheet2!B374","v":"20211010374"},"拟录取"]
[375,"吴方义","男","校企合作","市场营销",{"$f":"[1]Sheet2!A375&[1]Sheet2!B375","v":"20211010375"},"拟录取"]
[376,"胡顺娜","女","校企合作","市场营销",{"$f":"[1]Sheet2!A376&[1]Sheet2!B376","v":"20211010376"},"拟录取"]
[377,"贾建强","男","校企合作","市场营销",{"$f":"[1]Sheet2!A377&[1]Sheet2!B377","v":"20211010377"},"拟录取"]
[378,"刘苹","女","校企合作","市场营销",{"$f":"[1]Sheet2!A378&[1]Sheet2!B378","v":"20211010378"},"拟录取"]
[379,"刘长海","男","校企合作","市场营销",{"$f":"[1]Sheet2!A379&[1]Sheet2!B379","v":"20211010379"},"拟录取"]
[380,"王世海","男","校企合作","市场营销",{"$f":"[1]Sheet2!A380&[1]Sheet2!B380","v":"20211010380"},"拟录取"]
[381,"霍鹏","男","校企合作","电气自动化技术",{"$f":"[1]Sheet2!A381&[1]Sheet2!B381","v":"20211010381"},"拟录取"]
[382,"关凯锋","男","校企合作","电气自动化技术",{"$f":"[1]Sheet2!A382&[1]Sheet2!B382","v":"20211010382"},"拟录取"]
[383,"胡洪超","男","校企合作","电气自动化技术",{"$f":"[1]Sheet2!A383&[1]Sheet2!B383","v":"20211010383"},"拟录取"]
[384,"霍兵兵","男","校企合作","电气自动化技术",{"$f":"[1]Sheet2!A384&[1]Sheet2!B384","v":"20211010384"},"拟录取"]
[385,"王振","男","校企合作","电气自动化技术",{"$f":"[1]Sheet2!A385&[1]Sheet2!B385","v":"20211010385"},"拟录取"]
[386,"陈洪向","男","校企合作","电气自动化技术",{"$f":"[1]Sheet2!A386&[1]Sheet2!B386","v":"20211010386"},"拟录取"]
[387,"胡彦校","男","校企合作","电气自动化技术",{"$f":"[1]Sheet2!A387&[1]Sheet2!B387","v":"20211010387"},"拟录取"]
[388,"李浩","男","校企合作","电气自动化技术",{"$f":"[1]Sheet2!A388&[1]Sheet2!B388","v":"20211010388"},"拟录取"]
[389,"李军委","男","校企合作","电气自动化技术",{"$f":"[1]Sheet2!A389&[1]Sheet2!B389","v":"20211010389"},"拟录取"]
[390,"刘同斌","男","校企合作","电气自动化技术",{"$f":"[1]Sheet2!A390&[1]Sheet2!B390","v":"20211010390"},"拟录取"]
[391,"邵将","男","校企合作","电气自动化技术",{"$f":"[1]Sheet2!A391&[1]Sheet2!B391","v":"20211010391"},"拟录取"]
[392,"王春艳","女","校企合作","电气自动化技术",{"$f":"[1]Sheet2!A392&[1]Sheet2!B392","v":"20211010392"},"拟录取"]
[393,"王洪波","男","校企合作","电气自动化技术",{"$f":"[1]Sheet2!A393&[1]Sheet2!B393","v":"20211010393"},"拟录取"]
[394,"王修茂","男","校企合作","电气自动化技术",{"$f":"[1]Sheet2!A394&[1]Sheet2!B394","v":"20211010394"},"拟录取"]
[395,"王永亮","男","校企合作","电气自动化技术",{"$f":"[1]Sheet2!A395&[1]Sheet2!B395","v":"20211010395"},"拟录取"]
[396,"张鑫","男","校企合作","电气自动化技术",{"$f":"[1]Sheet2!A396&[1]Sheet2!B396","v":"20211010396"},"拟录取"]
[397,"张玉山","男","校企合作","电气自动化技术",{"$f":"[1]Sheet2!A397&[1]Sheet2!B397","v":"20211010397"},"拟录取"]
[398,"赵波","男","校企合作","电气自动化技术",{"$f":"[1]Sheet2!A398&[1]Sheet2!B398","v":"20211010398"},"拟录取"]
[399,"赵营","男","校企合作","电气自动化技术",{"$f":"[1]Sheet2!A399&[1]Sheet2!B399","v":"20211010399"},"拟录取"]
[400,"陈丽","女","校企合作","电气自动化技术",{"$f":"[1]Sheet2!A400&[1]Sheet2!B400","v":"20211010400"},"拟录取"]
[401,"赵东阳","男","校企合作","电气自动化技术",{"$f":"[1]Sheet2!A401&[1]Sheet2!B401","v":"20211010401"},"拟录取"]
[402,"李一博","男","校企合作","电气自动化技术",{"$f":"[1]Sheet2!A402&[1]Sheet2!B402","v":"20211010402"},"拟录取"]
[403,"李振博","男","校企合作","电气自动化技术",{"$f":"[1]Sheet2!A403&[1]Sheet2!B403","v":"20211010403"},"拟录取"]
[404,"成根强","男","校企合作","电气自动化技术",{"$f":"[1]Sheet2!A404&[1]Sheet2!B404","v":"20211010404"},"拟录取"]
[405,"李康至","男","校企合作","电气自动化技术",{"$f":"[1]Sheet2!A405&[1]Sheet2!B405","v":"20211010405"},"拟录取"]
[406,"梁红亮","男","校企合作","电气自动化技术",{"$f":"[1]Sheet2!A406&[1]Sheet2!B406","v":"20211010406"},"拟录取"]
[407,"鲁统爽","男","校企合作","电气自动化技术",{"$f":"[1]Sheet2!A407&[1]Sheet2!B407","v":"20211010407"},"拟录取"]
[408,"王超","男","校企合作","电气自动化技术",{"$f":"[1]Sheet2!A408&[1]Sheet2!B408","v":"20211010408"},"拟录取"]
[409,"周海燕","女","校企合作","电气自动化技术",{"$f":"[1]Sheet2!A409&[1]Sheet2!B409","v":"20211010409"},"拟录取"]
[410,"周建","男","校企合作","电气自动化技术",{"$f":"[1]Sheet2!A410&[1]Sheet2!B410","v":"20211010410"},"拟录取"]
[411,"王相泉","男","校企合作","电气自动化技术",{"$f":"[1]Sheet2!A411&[1]Sheet2!B411","v":"20211010411"},"拟录取"]
[412,"王超","男","校企合作","电气自动化技术",{"$f":"[1]Sheet2!A412&[1]Sheet2!B412","v":"20211010412"},"拟录取"]
[413,"王进涛","男","校企合作","电气自动化技术",{"$f":"[1]Sheet2!A413&[1]Sheet2!B413","v":"20211010413"},"拟录取"]
[414,"李诚伟","男","校企合作","电气自动化技术",{"$f":"[1]Sheet2!A414&[1]Sheet2!B414","v":"20211010414"},"拟录取"]
[415,"王贵涛","男","校企合作","电气自动化技术",{"$f":"[1]Sheet2!A415&[1]Sheet2!B415","v":"20211010415"},"拟录取"]
[416,"田绪光","男","校企合作","电气自动化技术",{"$f":"[1]Sheet2!A416&[1]Sheet2!B416","v":"20211010416"},"拟录取"]
[417,"张浩","男","校企合作","电气自动化技术",{"$f":"[1]Sheet2!A417&[1]Sheet2!B417","v":"20211010417"},"拟录取"]
[418,"赵大为","男","校企合作","电气自动化技术",{"$f":"[1]Sheet2!A418&[1]Sheet2!B418","v":"20211010418"},"拟录取"]
[419,"杨洪宣","男","校企合作","电气自动化技术",{"$f":"[1]Sheet2!A419&[1]Sheet2!B419","v":"20211010419"},"拟录取"]
[420,"林飞","女","校企合作","电气自动化技术",{"$f":"[1]Sheet2!A420&[1]Sheet2!B420","v":"20211010420"},"拟录取"]
[421,"饶志辉","男","校企合作","机电一体化技术",{"$f":"[1]Sheet2!A421&[1]Sheet2!B421","v":"20211010421"},"拟录取"]
[422,"徐昊","男","校企合作","电气自动化技术",{"$f":"[1]Sheet2!A422&[1]Sheet2!B422","v":"20211010422"},"拟录取"]
[423,"孙智慧","男","校企合作","电气自动化技术",{"$f":"[1]Sheet2!A423&[1]Sheet2!B423","v":"20211010423"},"拟录取"]
[424,"孙超","男","校企合作","电气自动化技术",{"$f":"[1]Sheet2!A424&[1]Sheet2!B424","v":"20211010424"},"拟录取"]
[425,"韦福喜","男","校企合作","机电一体化技术",{"$f":"[1]Sheet2!A425&[1]Sheet2!B425","v":"20211010425"},"拟录取"]
[426,"赵虎","男","校企合作","机电一体化技术",{"$f":"[1]Sheet2!A426&[1]Sheet2!B426","v":"20211010426"},"拟录取"]
[427,"孟星星","女","校企合作","计算机应用技术",{"$f":"[1]Sheet2!A427&[1]Sheet2!B427","v":"20211010427"},"拟录取"]
[428,"李迎梅","女","校企合作","计算机应用技术",{"$f":"[1]Sheet2!A428&[1]Sheet2!B428","v":"20211010428"},"拟录取"]
[429,"王刚","男","校企合作","计算机应用技术",{"$f":"[1]Sheet2!A429&[1]Sheet2!B429","v":"20211010429"},"拟录取"]
[430,"王政彬","男","校企合作","计算机应用技术",{"$f":"[1]Sheet2!A430&[1]Sheet2!B430","v":"20211010430"},"拟录取"]
[431,"赵亮","男","校企合作","计算机应用技术",{"$f":"[1]Sheet2!A431&[1]Sheet2!B431","v":"20211010431"},"拟录取"]
[432,"刘冲","男","校企合作","计算机应用技术",{"$f":"[1]Sheet2!A432&[1]Sheet2!B432","v":"20211010432"},"拟录取"]
[433,"朱童","男","推荐考核","建筑工程技术",{"$f":"[1]Sheet2!A433&[1]Sheet2!B433","v":"20211010433"},"拟录取"]
[434,"严明华","男","推荐考核","建筑工程技术",{"$f":"[1]Sheet2!A434&[1]Sheet2!B434","v":"20211010434"},"拟录取"]
[435,"纪志成","男","推荐考核","建筑工程技术",{"$f":"[1]Sheet2!A435&[1]Sheet2!B435","v":"20211010435"},"拟录取"]
[436,"刘军红","男","推荐考核","建筑工程技术",{"$f":"[1]Sheet2!A436&[1]Sheet2!B436","v":"20211010436"},"拟录取"]
[437,"路占军","男","推荐考核","建筑工程技术",{"$f":"[1]Sheet2!A437&[1]Sheet2!B437","v":"20211010437"},"拟录取"]
[438,"孙晓洋","男","推荐考核","建筑工程技术",{"$f":"[1]Sheet2!A438&[1]Sheet2!B438","v":"20211010438"},"拟录取"]
[439,"陆学芹","女","推荐考核","建筑工程技术",{"$f":"[1]Sheet2!A439&[1]Sheet2!B439","v":"20211010439"},"拟录取"]
[440,"王顺田","男","推荐考核","建筑工程技术",{"$f":"[1]Sheet2!A440&[1]Sheet2!B440","v":"20211010440"},"拟录取"]
[441,"苗聪颖","女","推荐考核","建筑工程技术",{"$f":"[1]Sheet2!A441&[1]Sheet2!B441","v":"20211010441"},"拟录取"]
[442,"孙海望","男","推荐考核","建筑工程技术",{"$f":"[1]Sheet2!A442&[1]Sheet2!B442","v":"20211010442"},"拟录取"]
[443,"刘金凤","女","校企合作","市场营销",{"$f":"[1]Sheet2!A443&[1]Sheet2!B443","v":"20211010443"},"拟录取"]
[444,"姜媛媛","女","校企合作","市场营销",{"$f":"[1]Sheet2!A444&[1]Sheet2!B444","v":"20211010444"},"拟录取"]
[445,"董美","女","校企合作","市场营销",{"$f":"[1]Sheet2!A445&[1]Sheet2!B445","v":"20211010445"},"拟录取"]
[446,"吴媚","女","校企合作","市场营销",{"$f":"[1]Sheet2!A446&[1]Sheet2!B446","v":"20211010446"},"拟录取"]
[447,"宋珍","女","校企合作","市场营销",{"$f":"[1]Sheet2!A447&[1]Sheet2!B447","v":"20211010447"},"拟录取"]
[448,"陈诗伟","女","校企合作","市场营销",{"$f":"[1]Sheet2!A448&[1]Sheet2!B448","v":"20211010448"},"拟录取"]
[449,"陆永康","男","校企合作","市场营销",{"$f":"[1]Sheet2!A449&[1]Sheet2!B449","v":"20211010449"},"拟录取"]
[450,"张安林","男","校企合作","市场营销",{"$f":"[1]Sheet2!A450&[1]Sheet2!B450","v":"20211010450"},"拟录取"]
[451,"倪梓萌","女","校企合作","市场营销",{"$f":"[1]Sheet2!A451&[1]Sheet2!B451","v":"20211010451"},"拟录取"]
[452,"王朋","男","校企合作","市场营销",{"$f":"[1]Sheet2!A452&[1]Sheet2!B452","v":"20211010452"},"拟录取"]
[453,"陈凤丹","女","校企合作","市场营销",{"$f":"[1]Sheet2!A453&[1]Sheet2!B453","v":"20211010453"},"拟录取"]
[454,"朱庆功","男","校企合作","机电一体化技术",{"$f":"[1]Sheet2!A454&[1]Sheet2!B454","v":"20211010454"},"拟录取"]
[455,"任祥华","男","校企合作","市场营销",{"$f":"[1]Sheet2!A455&[1]Sheet2!B455","v":"20211010455"},"拟录取"]
[456,"任祥德","男","校企合作","市场营销",{"$f":"[1]Sheet2!A456&[1]Sheet2!B456","v":"20211010456"},"拟录取"]
[457,"徐进浩","男","校企合作","机电一体化技术",{"$f":"[1]Sheet2!A457&[1]Sheet2!B457","v":"20211010457"},"拟录取"]
[458,"孙柯","男","推荐考核","建筑工程技术",{"$f":"[1]Sheet2!A458&[1]Sheet2!B458","v":"20211010458"},"拟录取"]
[459,"杨世豪","男","校企合作","机电一体化技术",{"$f":"[1]Sheet2!A459&[1]Sheet2!B459","v":"20211010459"},"拟录取"]
[460,"刘坤","男","推荐考核","建筑工程技术",{"$f":"[1]Sheet2!A460&[1]Sheet2!B460","v":"20211010460"},"拟录取"]
[461,"谢明","男","校企合作","计算机应用技术",{"$f":"[1]Sheet2!A461&[1]Sheet2!B461","v":"20211010461"},"拟录取"]
[462,"刘敏","女","校企合作","计算机应用技术",{"$f":"[1]Sheet2!A462&[1]Sheet2!B462","v":"20211010462"},"拟录取"]
[463,"赵杰杰","女","校企合作","计算机应用技术",{"$f":"[1]Sheet2!A463&[1]Sheet2!B463","v":"20211010463"},"拟录取"]
[464,"颜培治","男","推荐考核","建筑工程技术",{"$f":"[1]Sheet2!A464&[1]Sheet2!B464","v":"20211010464"},"拟录取"]
[465,"席宇航","男","推荐考核","建筑工程技术",{"$f":"[1]Sheet2!A465&[1]Sheet2!B465","v":"20211010465"},"拟录取"]
[466,"鹿欣","男","推荐考核","建筑工程技术",{"$f":"[1]Sheet2!A466&[1]Sheet2!B466","v":"20211010466"},"拟录取"]
[467,"贾广佳","男","推荐考核","建筑工程技术",{"$f":"[1]Sheet2!A467&[1]Sheet2!B467","v":"20211010467"},"拟录取"]
[468,"赵汉","男","推荐考核","建筑工程技术",{"$f":"[1]Sheet2!A468&[1]Sheet2!B468","v":"20211010468"},"拟录取"]
[469,"王娟","女","校企合作","机电一体化技术",{"$f":"[1]Sheet2!A469&[1]Sheet2!B469","v":"20211010469"},"拟录取"]
[470,"王戚","女","推荐考核","建筑工程技术",{"$f":"[1]Sheet2!A470&[1]Sheet2!B470","v":"20211010470"},"拟录取"]
[471,"张飞鸿","男","校企合作","机电一体化技术",{"$f":"[1]Sheet2!A471&[1]Sheet2!B471","v":"20211010471"},"拟录取"]
[472,"张谈","男","推荐考核","建筑工程技术",{"$f":"[1]Sheet2!A472&[1]Sheet2!B472","v":"20211010472"},"拟录取"]
[473,"高爽","男","推荐考核","建筑工程技术",{"$f":"[1]Sheet2!A473&[1]Sheet2!B473","v":"20211010473"},"拟录取"]
[474,"程小春","男","推荐考核","建筑工程技术",{"$f":"[1]Sheet2!A474&[1]Sheet2!B474","v":"20211010474"},"拟录取"]
[475,"耿昊天","男","推荐考核","建筑工程技术",{"$f":"[1]Sheet2!A475&[1]Sheet2!B475","v":"20211010475"},"拟录取"]
[476,"季雨晴","女","推荐考核","建筑工程技术",{"$f":"[1]Sheet2!A476&[1]Sheet2!B476","v":"20211010476"},"拟录取"]
[477,"张开猛","男","校企合作","市场营销",{"$f":"[1]Sheet2!A477&[1]Sheet2!B477","v":"20211010477"},"拟录取"]
[478,"宋莉娟","女","校企合作","市场营销",{"$f":"[1]Sheet2!A478&[1]Sheet2!B478","v":"20211010478"},"拟录取"]
[479,"张如鑫","女","推荐考核","建筑工程技术",{"$f":"[1]Sheet2!A479&[1]Sheet2!B479","v":"20211010479"},"未录取"]
[480,"王潮","男","校企合作","机电一体化技术",{"$f":"[1]Sheet2!A480&[1]Sheet2!B480","v":"20211010480"},"拟录取"]
[481,"朱鸿俊","男","校企合作","计算机应用技术",{"$f":"[1]Sheet2!A481&[1]Sheet2!B481","v":"20211010481"},"拟录取"]
[482,"鲍娜娜","女","校企合作","计算机应用技术",{"$f":"[1]Sheet2!A482&[1]Sheet2!B482","v":"20211010482"},"拟录取"]
[483,"王建强","男","校企合作","计算机应用技术",{"$f":"[1]Sheet2!A483&[1]Sheet2!B483","v":"20211010483"},"拟录取"]
[484,"周凡","女","推荐考核","建筑工程技术",{"$f":"[1]Sheet2!A484&[1]Sheet2!B484","v":"20211010484"},"拟录取"]
[485,"房雨帅","男","推荐考核","建筑工程技术",{"$f":"[1]Sheet2!A485&[1]Sheet2!B485","v":"20211010485"},"拟录取"]
[486,"董廷月","女","推荐考核","建筑工程技术",{"$f":"[1]Sheet2!A486&[1]Sheet2!B486","v":"20211010486"},"拟录取"]
[487,"王啸","男","推荐考核","建筑工程技术",{"$f":"[1]Sheet2!A487&[1]Sheet2!B487","v":"20211010487"},"拟录取"]
[488,"彭小宝","男","推荐考核","建筑工程技术",{"$f":"[1]Sheet2!A488&[1]Sheet2!B488","v":"20211010488"},"拟录取"]
[489,"魏寒寒","女","推荐考核","建筑工程技术",{"$f":"[1]Sheet2!A489&[1]Sheet2!B489","v":"20211010489"},"拟录取"]
[490,"华欣","女","推荐考核","建筑工程技术",{"$f":"[1]Sheet2!A490&[1]Sheet2!B490","v":"20211010490"},"拟录取"]
[491,"李肖","女","推荐考核","建筑工程技术",{"$f":"[1]Sheet2!A491&[1]Sheet2!B491","v":"20211010491"},"拟录取"]
[492,"盛楠","女","校企合作","电子商务",{"$f":"[1]Sheet2!A492&[1]Sheet2!B492","v":"20211010492"},"拟录取"]
[493,"胡雪莲","女","校企合作","电子商务",{"$f":"[1]Sheet2!A493&[1]Sheet2!B493","v":"20211010493"},"拟录取"]
[494,"代雪莲","女","校企合作","电子商务",{"$f":"[1]Sheet2!A494&[1]Sheet2!B494","v":"20211010494"},"拟录取"]
[495,"蔡亮","男","校企合作","电子商务",{"$f":"[1]Sheet2!A495&[1]Sheet2!B495","v":"20211010495"},"拟录取"]
[496,"郭芬","女","校企合作","电子商务",{"$f":"[1]Sheet2!A496&[1]Sheet2!B496","v":"20211010496"},"拟录取"]
[497,"陈露玮","女","校企合作","电子商务",{"$f":"[1]Sheet2!A497&[1]Sheet2!B497","v":"20211010497"},"拟录取"]
[498,"侍芯宇","女","校企合作","市场营销",{"$f":"[1]Sheet2!A498&[1]Sheet2!B498","v":"20211010498"},"拟录取"]
[499,"赵亚群","女","校企合作","市场营销",{"$f":"[1]Sheet2!A499&[1]Sheet2!B499","v":"20211010499"},"拟录取"]
[500,"胡坤","男","校企合作","市场营销",{"$f":"[1]Sheet2!A500&[1]Sheet2!B500","v":"20211010500"},"拟录取"]
[501,"蒋琦","男","校企合作","机电一体化技术",{"$f":"[1]Sheet2!A501&[1]Sheet2!B501","v":"20211010501"},"拟录取"]
[502,"王朋朋","男","校企合作","机电一体化技术",{"$f":"[1]Sheet2!A502&[1]Sheet2!B502","v":"20211010502"},"拟录取"]
[503,"张晓","女","校企合作","市场营销",{"$f":"[1]Sheet2!A503&[1]Sheet2!B503","v":"20211010503"},"拟录取"]
[504,"魏颖倩","女","校企合作","市场营销",{"$f":"[1]Sheet2!A504&[1]Sheet2!B504","v":"20211010504"},"拟录取"]
[505,"吴明明","女","校企合作","市场营销",{"$f":"[1]Sheet2!A505&[1]Sheet2!B505","v":"20211010505"},"拟录取"]
[506,"郜培丽","女","校企合作","市场营销",{"$f":"[1]Sheet2!A506&[1]Sheet2!B506","v":"20211010506"},"拟录取"]
[507,"卢丹","女","校企合作","市场营销",{"$f":"[1]Sheet2!A507&[1]Sheet2!B507","v":"20211010507"},"拟录取"]
[508,"郭玉朋","男","校企合作","市场营销",{"$f":"[1]Sheet2!A508&[1]Sheet2!B508","v":"20211010508"},"拟录取"]
[509,"杨同学","男","推荐考核","建筑工程技术",{"$f":"[1]Sheet2!A509&[1]Sheet2!B509","v":"20211010509"},"拟录取"]
[510,"张明飞","男","推荐考核","建筑工程技术",{"$f":"[1]Sheet2!A510&[1]Sheet2!B510","v":"20211010510"},"拟录取"]
[511,"周时","男","校企合作","市场营销",{"$f":"[1]Sheet2!A511&[1]Sheet2!B511","v":"20211010511"},"拟录取"]
[512,"董峰","男","推荐考核","建筑工程技术",{"$f":"[1]Sheet2!A512&[1]Sheet2!B512","v":"20211010512"},"未录取"]
[513,"林娜","女","校企合作","市场营销",{"$f":"[1]Sheet2!A513&[1]Sheet2!B513","v":"20211010513"},"拟录取"]
[514,"吴耐","男","校企合作","市场营销",{"$f":"[1]Sheet2!A514&[1]Sheet2!B514","v":"20211010514"},"拟录取"]
[515,"陈玉金","女","校企合作","市场营销",{"$f":"[1]Sheet2!A515&[1]Sheet2!B515","v":"20211010515"},"拟录取"]
[516,"朱小盟","男","校企合作","市场营销",{"$f":"[1]Sheet2!A516&[1]Sheet2!B516","v":"20211010516"},"拟录取"]
[517,"岳翠","女","校企合作","市场营销",{"$f":"[1]Sheet2!A517&[1]Sheet2!B517","v":"20211010517"},"拟录取"]
[518,"胡梓俊","男","校企合作","市场营销",{"$f":"[1]Sheet2!A518&[1]Sheet2!B518","v":"20211010518"},"拟录取"]
[519,"陈冻冻","男","推荐考核","建筑工程技术",{"$f":"[1]Sheet2!A519&[1]Sheet2!B519","v":"20211010519"},"拟录取"]
[520,"袁维","女","推荐考核","建筑工程技术",{"$f":"[1]Sheet2!A520&[1]Sheet2!B520","v":"20211010520"},"拟录取"]
[521,"朱婷婷","女","校企合作","市场营销",{"$f":"[1]Sheet2!A521&[1]Sheet2!B521","v":"20211010521"},"拟录取"]
[522,"曹化露","男","校企合作","机电一体化技术",{"$f":"[1]Sheet2!A522&[1]Sheet2!B522","v":"20211010522"},"拟录取"]
[523,"刘杰","男","校企合作","电气自动化技术",{"$f":"[1]Sheet2!A523&[1]Sheet2!B523","v":"20211010523"},"拟录取"]
[524,"陈雅倩","女","校企合作","市场营销",{"$f":"[1]Sheet2!A524&[1]Sheet2!B524","v":"20211010524"},"拟录取"]
[525,"黄磊","男","校企合作","机电一体化技术",{"$f":"[1]Sheet2!A525&[1]Sheet2!B525","v":"20211010525"},"拟录取"]
[526,"郑雪","女","校企合作","市场营销",{"$f":"[1]Sheet2!A526&[1]Sheet2!B526","v":"20211010526"},"拟录取"]
[527,"薛芹","女","校企合作","市场营销",{"$f":"[1]Sheet2!A527&[1]Sheet2!B527","v":"20211010527"},"拟录取"]
[528,"杨雪娜","女","推荐考核","建筑工程技术",{"$f":"[1]Sheet2!A528&[1]Sheet2!B528","v":"20211010528"},"拟录取"]
[529,"张游","男","推荐考核","建筑工程技术",{"$f":"[1]Sheet2!A529&[1]Sheet2!B529","v":"20211010529"},"拟录取"]
[530,"刘天","男","推荐考核","建筑工程技术",{"$f":"[1]Sheet2!A530&[1]Sheet2!B530","v":"20211010530"},"拟录取"]
[531,"钱辉","男","推荐考核","建筑工程技术",{"$f":"[1]Sheet2!A531&[1]Sheet2!B531","v":"20211010531"},"拟录取"]
[532,"申圈","女","校企合作","计算机应用技术",{"$f":"[1]Sheet2!A532&[1]Sheet2!B532","v":"20211010532"},"拟录取"]
[533,"朱京霞","女","校企合作","市场营销",{"$f":"[1]Sheet2!A533&[1]Sheet2!B533","v":"20211010533"},"拟录取"]
[534,"昝海军","男","校企合作","市场营销",{"$f":"[1]Sheet2!A534&[1]Sheet2!B534","v":"20211010534"},"拟录取"]
[535,"董芳","女","推荐考核","建筑工程技术",{"$f":"[1]Sheet2!A535&[1]Sheet2!B535","v":"20211010535"},"拟录取"]
[536,"魏贺喜","男","推荐考核","建筑工程技术",{"$f":"[1]Sheet2!A536&[1]Sheet2!B536","v":"20211010536"},"拟录取"]
[537,"徐骞","男","推荐考核","建筑工程技术",{"$f":"[1]Sheet2!A537&[1]Sheet2!B537","v":"20211010537"},"拟录取"]
[538,"徐池","男","校企合作","机电一体化技术",{"$f":"[1]Sheet2!A538&[1]Sheet2!B538","v":"20211010538"},"拟录取"]
[539,"张欢欢","男","校企合作","机电一体化技术",{"$f":"[1]Sheet2!A539&[1]Sheet2!B539","v":"20211010539"},"拟录取"]
[540,"王程程","女","推荐考核","建筑工程技术",{"$f":"[1]Sheet2!A540&[1]Sheet2!B540","v":"20211010540"},"拟录取"]
[541,"秦荣飞","男","推荐考核","建筑工程技术",{"$f":"[1]Sheet2!A541&[1]Sheet2!B541","v":"20211010541"},"拟录取"]
[542,"王浩然","男","校企合作","机电一体化技术",{"$f":"[1]Sheet2!A542&[1]Sheet2!B542","v":"20211010542"},"拟录取"]
[543,"王彩红","女","校企合作","计算机应用技术",{"$f":"[1]Sheet2!A543&[1]Sheet2!B543","v":"20211010543"},"拟录取"]
[544,"陈雨停","女","校企合作","机电一体化技术",{"$f":"[1]Sheet2!A544&[1]Sheet2!B544","v":"20211010544"},"拟录取"]
[545,"王化申","男","校企合作","机电一体化技术",{"$f":"[1]Sheet2!A545&[1]Sheet2!B545","v":"20211010545"},"拟录取"]
[546,"尤越","男","校企合作","机电一体化技术",{"$f":"[1]Sheet2!A546&[1]Sheet2!B546","v":"20211010546"},"拟录取"]
[547,"陈凤根","女","校企合作","机电一体化技术",{"$f":"[1]Sheet2!A547&[1]Sheet2!B547","v":"20211010547"},"拟录取"]
[548,"陈熙腾","男","校企合作","机电一体化技术",{"$f":"[1]Sheet2!A548&[1]Sheet2!B548","v":"20211010548"},"拟录取"]
[549,"王珊珊","女","校企合作","计算机应用技术",{"$f":"[1]Sheet2!A549&[1]Sheet2!B549","v":"20211010549"},"拟录取"]
[550,"刘月侠","女","校企合作","机电一体化技术",{"$f":"[1]Sheet2!A550&[1]Sheet2!B550","v":"20211010550"},"拟录取"]
[551,"孙洁","女","校企合作","机电一体化技术",{"$f":"[1]Sheet2!A551&[1]Sheet2!B551","v":"20211010551"},"拟录取"]
[552,"蔺存得","男","推荐考核","建筑工程技术",{"$f":"[1]Sheet2!A552&[1]Sheet2!B552","v":"20211010552"},"拟录取"]
[553,"王伟","女","校企合作","机电一体化技术",{"$f":"[1]Sheet2!A553&[1]Sheet2!B553","v":"20211010553"},"未录取"]
[554,"何红飞","男","校企合作","机电一体化技术",{"$f":"[1]Sheet2!A554&[1]Sheet2!B554","v":"20211010554"},"拟录取"]
[555,"陈莺","女","校企合作","机电一体化技术",{"$f":"[1]Sheet2!A555&[1]Sheet2!B555","v":"20211010555"},"拟录取"]
[556,"刘尊虎","男","校企合作","机电一体化技术",{"$f":"[1]Sheet2!A556&[1]Sheet2!B556","v":"20211010556"},"拟录取"]
[557,"刘召帅","男","推荐考核","建筑工程技术",{"$f":"[1]Sheet2!A557&[1]Sheet2!B557","v":"20211010557"},"拟录取"]
[558,"马辉","男","校企合作","计算机应用技术",{"$f":"[1]Sheet2!A558&[1]Sheet2!B558","v":"20211010558"},"拟录取"]
[559,"乔洁","女","推荐考核","建筑工程技术",{"$f":"[1]Sheet2!A559&[1]Sheet2!B559","v":"20211010559"},"拟录取"]
[560,"颜枫","男","推荐考核","建筑工程技术",{"$f":"[1]Sheet2!A560&[1]Sheet2!B560","v":"20211010560"},"拟录取"]
[561,"余贺","男","校企合作","计算机应用技术",{"$f":"[1]Sheet2!A561&[1]Sheet2!B561","v":"20211010561"},"拟录取"]
[562,"郭涛","男","推荐考核","建筑工程技术",{"$f":"[1]Sheet2!A562&[1]Sheet2!B562","v":"20211010562"},"拟录取"]
[563,"汤珊","女","校企合作","计算机应用技术",{"$f":"[1]Sheet2!A563&[1]Sheet2!B563","v":"20211010563"},"拟录取"]
[564,"刘悬悬","女","推荐考核","建筑工程技术",{"$f":"[1]Sheet2!A564&[1]Sheet2!B564","v":"20211010564"},"拟录取"]
[565,"渠园园","男","推荐考核","建筑工程技术",{"$f":"[1]Sheet2!A565&[1]Sheet2!B565","v":"20211010565"},"拟录取"]
[566,"徐新文","男","推荐考核","建筑工程技术",{"$f":"[1]Sheet2!A566&[1]Sheet2!B566","v":"20211010566"},"拟录取"]
[567,"李宁","男","推荐考核","建筑工程技术",{"$f":"[1]Sheet2!A567&[1]Sheet2!B567","v":"20211010567"},"拟录取"]
[568,"马凤娟","女","推荐考核","建筑工程技术",{"$f":"[1]Sheet2!A568&[1]Sheet2!B568","v":"20211010568"},"未录取"]
[569,"陈苏川","男","校企合作","机电一体化技术",{"$f":"[1]Sheet2!A569&[1]Sheet2!B569","v":"20211010569"},"拟录取"]
[570,"史新江","男","校企合作","机电一体化技术",{"$f":"[1]Sheet2!A570&[1]Sheet2!B570","v":"20211010570"},"拟录取"]
[571,"孙里勇","男","校企合作","计算机应用技术",{"$f":"[1]Sheet2!A571&[1]Sheet2!B571","v":"20211010571"},"拟录取"]
[572,"陈静","女","校企合作","计算机应用技术",{"$f":"[1]Sheet2!A572&[1]Sheet2!B572","v":"20211010572"},"拟录取"]
[573,"朱安刚","男","校企合作","计算机应用技术",{"$f":"[1]Sheet2!A573&[1]Sheet2!B573","v":"20211010573"},"拟录取"]
[574,"涂高飞","男","校企合作","计算机应用技术",{"$f":"[1]Sheet2!A574&[1]Sheet2!B574","v":"20211010574"},"拟录取"]
[575,"李亮","男","校企合作","计算机应用技术",{"$f":"[1]Sheet2!A575&[1]Sheet2!B575","v":"20211010575"},"拟录取"]
[576,"凌冲","男","校企合作","计算机应用技术",{"$f":"[1]Sheet2!A576&[1]Sheet2!B576","v":"20211010576"},"拟录取"]
[577,"杨保雷","男","校企合作","计算机应用技术",{"$f":"[1]Sheet2!A577&[1]Sheet2!B577","v":"20211010577"},"拟录取"]
[578,"李绍辉","男","校企合作","机电一体化技术",{"$f":"[1]Sheet2!A578&[1]Sheet2!B578","v":"20211010578"},"拟录取"]
[579,"赵德祥","男","校企合作","计算机应用技术",{"$f":"[1]Sheet2!A579&[1]Sheet2!B579","v":"20211010579"},"拟录取"]
[580,"徐建","男","校企合作","计算机应用技术",{"$f":"[1]Sheet2!A580&[1]Sheet2!B580","v":"20211010580"},"拟录取"]